BEGIN:VCALENDAR
PRODID:-//github.com/rianjs/ical.net//NONSGML ical.net 4.0//EN
VERSION:2.0
BEGIN:VEVENT
DESCRIPTION:Muntlig eksamen pulje 2
DTEND:20260610T235959
DTSTAMP:20260424T164138Z
DTSTART;VALUE=DATE:20260608
SEQUENCE:0
SUMMARY:Muntlig eksamen pulje 2
UID:5cb92ad3-57b4-40b8-b333-f63d6888ab46
END:VEVENT
END:VCALENDAR
