BEGIN:VCALENDAR
PRODID:-//github.com/rianjs/ical.net//NONSGML ical.net 4.0//EN
VERSION:2.0
BEGIN:VEVENT
DESCRIPTION:Muntlig eksamen pulje 1
DTEND:20260603T235959
DTSTAMP:20260424T164138Z
DTSTART;VALUE=DATE:20260601
SEQUENCE:0
SUMMARY:Muntlig eksamen pulje 1
UID:90bc1f64-992a-48a1-b2ad-73f372ad68aa
END:VEVENT
END:VCALENDAR
