BEGIN:VCALENDAR
PRODID:-//github.com/rianjs/ical.net//NONSGML ical.net 4.0//EN
VERSION:2.0
BEGIN:VEVENT
DESCRIPTION:Eksamen norsk sidemål
DTEND:20260522T235959
DTSTAMP:20260424T164137Z
DTSTART;VALUE=DATE:20260522
SEQUENCE:0
SUMMARY:Eksamen norsk sidemål
UID:cc14da9c-9755-4dcf-b163-2778430bbf8c
END:VEVENT
END:VCALENDAR
