BEGIN:VCALENDAR
PRODID:-//github.com/rianjs/ical.net//NONSGML ical.net 4.0//EN
VERSION:2.0
BEGIN:VEVENT
DESCRIPTION:Eksamen norsk hovedmål
DTEND:20260521T235959
DTSTAMP:20260424T164136Z
DTSTART;VALUE=DATE:20260521
SEQUENCE:0
SUMMARY:Eksamen norsk hovedmål
UID:32dcd6d4-9e38-4d62-8d9e-d5ca1693af8f
END:VEVENT
END:VCALENDAR
