BEGIN:VCALENDAR
PRODID:-//github.com/rianjs/ical.net//NONSGML ical.net 4.0//EN
VERSION:2.0
BEGIN:VEVENT
DESCRIPTION:Eksamen engelsk
DTEND:20260520T235959
DTSTAMP:20260424T164137Z
DTSTART;VALUE=DATE:20260520
SEQUENCE:0
SUMMARY:Eksamen engelsk
UID:cf37e43c-a315-4563-8c85-4ae495e64d51
END:VEVENT
END:VCALENDAR
