BEGIN:VCALENDAR
PRODID:-//github.com/rianjs/ical.net//NONSGML ical.net 4.0//EN
VERSION:2.0
BEGIN:VEVENT
DESCRIPTION:Eksamen matematikk
DTEND:20260526T235959
DTSTAMP:20260424T164200Z
DTSTART;VALUE=DATE:20260526
SEQUENCE:0
SUMMARY:Eksamen matematikk
UID:f6b92c92-4b8a-49b8-bab1-6fe8334f9dcd
END:VEVENT
END:VCALENDAR
